BEGIN:VCALENDAR
VERSION:2.0
PRODID:-//Bricklayers Sydney - ECPv4.8.1//NONSGML v1.0//EN
CALSCALE:GREGORIAN
METHOD:PUBLISH
X-WR-CALNAME:Bricklayers Sydney
X-ORIGINAL-URL:https://www.bricklayerssydney.com.au
X-WR-CALDESC:Events for Bricklayers Sydney
BEGIN:VEVENT
DTSTART;TZID=UTC+0:20170829T080000
DTEND;TZID=UTC+0:20200829T170000
DTSTAMP:20190228T222348
CREATED:20170825T223338Z
LAST-MODIFIED:20170825T223338Z
UID:14344-1503993600-1598720400@www.bricklayerssydney.com.au
SUMMARY:School Day-off Camp
DESCRIPTION:\n	It is a day “on” at the Chicago Botanic Garden! Preregistration required.\n	\nKids in grades K – 4 will explore a range of activities including art\, nature\, and science. Children will participate in high-quality learning activities while connecting to nature with experienced teachers who use inquiry-based\, hands-on activities. \n
URL:https://www.bricklayerssydney.com.au/classes/school-day-off-camp/
LOCATION:New York Ardesia Bar\, Lexington Avenue\, New York\, NY\, 10022\, United States
CATEGORIES:Tires,Yoga,Аccessories
ORGANIZER;CN="Michael%20%26amp%3B%20Ashley":MAILTO:junk@vamtam.com
END:VEVENT
BEGIN:VEVENT
DTSTART;TZID=UTC+0:20170901T080000
DTEND;TZID=UTC+0:20191002T170000
DTSTAMP:20190228T222348
CREATED:20170825T231901Z
LAST-MODIFIED:20170825T231901Z
UID:14349-1504252800-1570035600@www.bricklayerssydney.com.au
SUMMARY:Nature Nights
DESCRIPTION:\n	Roam the Garden after hours and uncover the mysteries of nature at night!\n	\nBring a picnic dinner and spend an evening in the Garden! Children ages 4 to 10 and their families will explore different areas of the Garden and enjoy a variety of discovery-based activities. Each Nature Nights also includes a short tram ride\, planting project\, and s’mores around the campfire. Nature Nights is held rain or shine. \n
URL:https://www.bricklayerssydney.com.au/classes/nature-nights/
LOCATION:New York Ardesia Bar\, Lexington Avenue\, New York\, NY\, 10022\, United States
ORGANIZER;CN="Michael%20%26amp%3B%20Ashley":MAILTO:junk@vamtam.com
END:VEVENT
BEGIN:VEVENT
DTSTART;VALUE=DATE:20170914
DTEND;VALUE=DATE:20201015
DTSTAMP:20190228T222348
CREATED:20170825T232445Z
LAST-MODIFIED:20170825T232445Z
UID:14350-1505347200-1602719999@www.bricklayerssydney.com.au
SUMMARY:Plant Giveaway
DESCRIPTION:\n	Description\n	\nStop by the Regenstein Fruit & Vegetable Garden to pot up this month’s featured plant seedling to grow at home (while supplies last). \nVolunteers in the Regenstein Fruit & Vegetable Garden share information about each month’s featured plant and encourage visitors to plant seeds or seedlings (while supplies last) to take home to their own gardens. A flier with care information and a recipe is available. \n\nUnderstand cash flow and its role in the credit risk assessment process\nInterpret the impact of primary cash drivers\nPrepare projections to assess future cash flow quality\n\n\nProject future cash flow\, debt service cover\, and credit needs\nIdentify potential liquidity problems before they become a threat\nAssess cash flow issues specific to international companies\n\n
URL:https://www.bricklayerssydney.com.au/classes/plant-giveaway/
LOCATION:New York Ardesia Bar\, Lexington Avenue\, New York\, NY\, 10022\, United States
CATEGORIES:Aerobics,Danceing,Headlights & Lighting,Tires,Yoga,Аccessories
ORGANIZER;CN="Michael":MAILTO:junk@vamtam.com
END:VEVENT
BEGIN:VEVENT
DTSTART;VALUE=DATE:20171002
DTEND;VALUE=DATE:20201003
DTSTAMP:20190228T222348
CREATED:20170825T230424Z
LAST-MODIFIED:20170825T230424Z
UID:14347-1506902400-1601683199@www.bricklayerssydney.com.au
SUMMARY:ILCA Golf outing
DESCRIPTION:\n	2017 ILCA Golf Outing – Thursday\, September 14\, 2017\n	\nhe ILCA Golf Outing is the largest green industry golf outing in the State of Illinois. The Golf Outing is one of ILCA’s most popular and anticipated events. 2016’s ILCA Golf Outing was a huge success and sold out\, so make sure to register for the 2017 outing as soon as possible! \n\n	Landscape Contractors Have the Opportunity to Golf for FREE!\n	\nWho doesn’t love a free round of golf? As the ILCA golf outing continues to expand\, sponsors are looking at opportunities to not only reward their best customers but also prospect for new ones. Any landscape contractor who is interested in being part of a sponsored foursome can register as a Free Golfer (Landscape Contractors only). There is no charge. If selected\, the sponsor will pay for your round of golf. Sponsors will organize their foursomes from the names collected. You will golf with a mixture of landscape contractors and a sponsor rep. \nRegistration criteria: You must have purchasing power within the company. You can register no more than 2 individuals per company. You love having a great time on the golf course! \n**Be advised\, registering does not mean you will be selected. This will be limited to the amount of sponsors who organize foursomes from this pool. \n
URL:https://www.bricklayerssydney.com.au/classes/ilca-golf-outing/
LOCATION:New York Ardesia Bar\, Lexington Avenue\, New York\, NY\, 10022\, United States
CATEGORIES:Aerobics,Yoga
ORGANIZER;CN="Michael%20%26amp%3B%20Ashley":MAILTO:junk@vamtam.com
END:VEVENT
BEGIN:VEVENT
DTSTART;TZID=UTC+0:20171124T000000
DTEND;TZID=UTC+0:20201128T235900
DTSTAMP:20190228T222348
CREATED:20170825T232759Z
LAST-MODIFIED:20170825T232759Z
UID:14351-1511481600-1606607940@www.bricklayerssydney.com.au
SUMMARY:Retrofitting and enhancing green infrastructure
DESCRIPTION:\n	Description\n	\nAs demand for new homes rises\, our towns and cities are becoming more densely populated. How can we make the most of the increasingly limited opportunities for green infrastructure in our urban areas? \nGreen infrastructure – such as parks\, green spaces\, trees\, and sustainable drainage – are vital if our urban areas are to be attractive\, healthy\, liveable places. But finding the space for green infrastructure is becoming increasingly difficult. \nThis conference\, organised by TCPA\, will bring together leading practitioners from across the sector with new perspectives\, ideas and inspiration. \n
URL:https://www.bricklayerssydney.com.au/classes/retrofitting-and-enhancing-green-infrastructure/
LOCATION:New York Ardesia Bar\, Lexington Avenue\, New York\, NY\, 10022\, United States
ORGANIZER;CN="Michael%20%26amp%3B%20Ashley":MAILTO:junk@vamtam.com
END:VEVENT
BEGIN:VEVENT
DTSTART;VALUE=DATE:20171214
DTEND;VALUE=DATE:20191215
DTSTAMP:20190228T222348
CREATED:20170825T231213Z
LAST-MODIFIED:20170825T231213Z
UID:14348-1513209600-1576367999@www.bricklayerssydney.com.au
SUMMARY:Winter Break Camp
DESCRIPTION:\n	Children engage in exciting indoor and outdoor activities while exploring the Garden as it takes a long winter’s nap!\n	\nChildren can engage in exciting\, hands-on\, indoor and outdoor activities while discovering the Garden in winter. They’ll investigate weather\, explore seasonal adaptations of plants and animals\, enjoy a visit to our Wonderland Express holiday exhibition\, and dabble in art. \n\n	Daily themes\n	\nMonday\, December 18 — Winter Celebrations\nTuesday\, December 19 — Snow Science\nWednesday\, December 20 — All Aboard the Wonderland Express\nThursday\, December 21 — Plant & Animal Adaptations\nFriday\, December 22 — Chillerific Art \nTuesday\, January 2 — Winter Celebrations\nWednesday\, January 3 — Snow Science\nThursday\, January 4 — Plant & Animal Adaptations\nFriday\, January 5 — Chillerific Art (Wonderland Express Visit) \n\n	Rave reviews from parents of campers\n	\n“Excellent\, rich experience!” \n“My camper enjoyed making treats and learning about origami.” \n“He enjoyed looking for animal tracks in the snow and the expedition to the Japanese Garden.” \n
URL:https://www.bricklayerssydney.com.au/classes/winter-break-camp/
LOCATION:New York Ardesia Bar\, Lexington Avenue\, New York\, NY\, 10022\, United States
CATEGORIES:Aerobics,Danceing,Tires
END:VEVENT
BEGIN:VEVENT
DTSTART;TZID=UTC+0:20180208T080000
DTEND;TZID=UTC+0:20200208T080000
DTSTAMP:20190228T222348
CREATED:20170825T103749Z
LAST-MODIFIED:20170825T103749Z
UID:14343-1518076800-1581148800@www.bricklayerssydney.com.au
SUMMARY:‘Out of Nature’ sculpture show
DESCRIPTION:\n	Description\n	\nOn October 1-22 2017\, the gardens at Newport House on the Welsh borders open to the public and ‘Out Of Nature’ presents its 3rd sculpture show. \nWith more than 40 artists and 300 pieces from all over the UK\, Out Of Nature is one of the largest sculpture shows in the country in scale and in quality of artists represented. \nIt was created in 2013 to celebrate the link with nature and to invite everyone to let themselves be awed and bewitched by the beauty of autumn colours in the formal gardens and the walled vegetable gardens of Newport House\, resonating with the magic of sculptures of all sizes\, shapes and materials. \nCentral to the show is The Cart Shed\, a charity that works with people with mental health issues (such as post traumatic stress disorder\, depression\, bi-polar disorder…) through coppicing and green wood craft. The Cart Shed will be present throughout the show with staff and volunteers happy to demonstrate activities and share its experiences. \nAll profits from the show are donated to The Cart Shed. \n
URL:https://www.bricklayerssydney.com.au/classes/out-of-nature-sculpture-show/
LOCATION:New York Ardesia Bar\, Lexington Avenue\, New York\, NY\, 10022\, United States
ORGANIZER;CN="Michael":MAILTO:junk@vamtam.com
END:VEVENT
BEGIN:VEVENT
DTSTART;VALUE=DATE:20180412
DTEND;VALUE=DATE:20200415
DTSTAMP:20190228T222348
CREATED:20170825T225039Z
LAST-MODIFIED:20170825T225039Z
UID:14345-1523491200-1586908799@www.bricklayerssydney.com.au
SUMMARY:Natural capital accounting at the local and landscape scale
DESCRIPTION:\n	Description\n	\nThis half-day seminar should increase your understanding of the: \n\nMethods for ecosystem and natural capital accounting applicable at the local and landscape scale\nRelationship with other tools and methods\, e.g. ecosystem service mapping\n\n\nResources and skills required to undertake an assessment\nPotential for informing planning\, investment and management decisions.\n\nOrganised by the Ecosystems Knowledge Network\, it will be delivered by experts from eftec (The Economics of the Environment Consultancy) and Aecom. \n
URL:https://www.bricklayerssydney.com.au/classes/natural-capital-accounting-at-the-local-and-landscape-scale/
LOCATION:New York Ardesia Bar\, Lexington Avenue\, New York\, NY\, 10022\, United States
END:VEVENT
BEGIN:VEVENT
DTSTART;TZID=UTC+0:20180602T080000
DTEND;TZID=UTC+0:20200604T170000
DTSTAMP:20190228T222348
CREATED:20170825T225526Z
LAST-MODIFIED:20170825T225526Z
UID:14346-1527926400-1591290000@www.bricklayerssydney.com.au
SUMMARY:National Urban Design Conference 2017
DESCRIPTION:\n	Description\n	\nThe National Urban Design Conference is a two and a half day celebration of energy\, ideas and goodwill open to anyone from any background who cares about the way we design our towns and cities\, streets and spaces. \nThe theme of the conference is ‘Health\, Happiness and Harmony: The Role of Urban Design‘. \nThere will be a total of 60 speakers. Organisations involved include IBI\, Tibbalds Planning and Urban Design Ltd\, Broadway Malyan\, GreenBlue Urban\, WYG\, Place Services\, Essex County Council\, HOK\, WDS\, Urban Design Group\, Times Construction\, Savills LLP\, University of the West of England\, RTPINorthWest\, WYG\, Transport for New Homes\, Vision Zero UK\, Mcgregor Coxall\, Royal Caledonian Education Trust\, New Garden Cities Alliance\, University of Liverpool\, Leeds Beckett University\, Core Cities Group\, Austin-Smith:Lord LLP\, David Lock Associates \, Turley\, Phil Jones Associates\, Connected Cities\, WSP\, Hosta Consulting\, Weston Williamson\, HTA\, PLACED\, The URBED Trust\, Academy of Urbanism\, Place First\, Turley\, University of Manchester\, VUCITY\, Centre for Sustainable Communities\, Prosocial Place & Maxim Urb. \n
URL:https://www.bricklayerssydney.com.au/classes/national-urban-design-conference-2017/
LOCATION:New York Ardesia Bar\, Lexington Avenue\, New York\, NY\, 10022\, United States
CATEGORIES:Aerobics,Danceing
ORGANIZER;CN="Michael":MAILTO:junk@vamtam.com
END:VEVENT
END:VCALENDAR